BEGIN:VCALENDAR
PRODID:-//github.com/rianjs/ical.net//NONSGML ical.net 4.0//EN
VERSION:2.0
BEGIN:VTIMEZONE
TZID:Eastern Standard Time
X-LIC-LOCATION:America/New_York
BEGIN:STANDARD
DTSTART:20241103T020000
RRULE:FREQ=YEARLY;BYDAY=1SU;BYMONTH=11
TZNAME:EST
TZOFFSETFROM:-0400
TZOFFSETTO:-0500
END:STANDARD
BEGIN:DAYLIGHT
DTSTART:20250309T020000
RRULE:FREQ=YEARLY;BYDAY=2SU;BYMONTH=3
TZNAME:EDT
TZOFFSETFROM:-0500
TZOFFSETTO:-0400
END:DAYLIGHT
END:VTIMEZONE
BEGIN:VEVENT
DESCRIPTION:FREE LEARNING LAB! Presented by JustPark
DTEND;TZID=Eastern Standard Time:20260429T150000
DTSTAMP:20260425T155431Z
DTSTART;TZID=Eastern Standard Time:20260429T140000
LOCATION:Join Us Virtually
ORGANIZER;CN=;SENT-BY="mailto:":
SEQUENCE:0
SUMMARY:IPMI: Applying Game Day Best Practices to Campus-Wide Events
UID:8554dd18-548c-4b9f-b1b0-dab50fc963c2
END:VEVENT
END:VCALENDAR
