BEGIN:VCALENDAR
PRODID:-//github.com/rianjs/ical.net//NONSGML ical.net 4.0//EN
VERSION:2.0
BEGIN:VTIMEZONE
TZID:Eastern Standard Time
X-LIC-LOCATION:America/New_York
BEGIN:STANDARD
DTSTART:20241103T020000
RRULE:FREQ=YEARLY;BYDAY=1SU;BYMONTH=11
TZNAME:EST
TZOFFSETFROM:-0400
TZOFFSETTO:-0500
END:STANDARD
BEGIN:DAYLIGHT
DTSTART:20250309T020000
RRULE:FREQ=YEARLY;BYDAY=2SU;BYMONTH=3
TZNAME:EDT
TZOFFSETFROM:-0500
TZOFFSETTO:-0400
END:DAYLIGHT
END:VTIMEZONE
BEGIN:VEVENT
DESCRIPTION:Open to members from academic institutions.
DTEND;TZID=Eastern Standard Time:20260701T150000
DTSTAMP:20260423T163952Z
DTSTART;TZID=Eastern Standard Time:20260701T140000
LOCATION:Join Us Virtually
ORGANIZER;CN=;SENT-BY="mailto:":
SEQUENCE:0
SUMMARY:IPMI: Free Higher Education Member Roundtable: Transportation Dema
 nd Management (TDM): Behavioral Strategies to Reduce Single-Occupancy Veh
 icle Use
UID:f60a5a1d-a218-41c0-87cb-189a92aeeff1
END:VEVENT
END:VCALENDAR
