BEGIN:VCALENDAR
PRODID:-//github.com/rianjs/ical.net//NONSGML ical.net 4.0//EN
VERSION:2.0
BEGIN:VTIMEZONE
TZID:Eastern Standard Time
X-LIC-LOCATION:America/New_York
BEGIN:STANDARD
DTSTART:20241103T020000
RRULE:FREQ=YEARLY;BYDAY=1SU;BYMONTH=11
TZNAME:EST
TZOFFSETFROM:-0400
TZOFFSETTO:-0500
END:STANDARD
BEGIN:DAYLIGHT
DTSTART:20250309T020000
RRULE:FREQ=YEARLY;BYDAY=2SU;BYMONTH=3
TZNAME:EDT
TZOFFSETFROM:-0500
TZOFFSETTO:-0400
END:DAYLIGHT
END:VTIMEZONE
BEGIN:VEVENT
DESCRIPTION:Join staff to find out more about the upcoming Conference & Ex
 po.
DTEND;TZID=Eastern Standard Time:20260603T130000
DTSTAMP:20260425T201403Z
DTSTART;TZID=Eastern Standard Time:20260603T120000
LOCATION:Join us Virtually!
ORGANIZER;CN=;SENT-BY="mailto:":
SEQUENCE:0
SUMMARY:IPMI: Conference & Expo First-Timers Chat
UID:bc0c00e6-f1ad-4a12-97c7-0485ab95d339
END:VEVENT
END:VCALENDAR
